BEGIN:VCALENDAR
VERSION:2.0
PRODID:-//La Chirigota del Bizcocho - ECPv6.15.20//NONSGML v1.0//EN
CALSCALE:GREGORIAN
METHOD:PUBLISH
X-ORIGINAL-URL:https://lachirigotadelbizcocho.com
X-WR-CALDESC:Eventos para La Chirigota del Bizcocho
REFRESH-INTERVAL;VALUE=DURATION:PT1H
X-Robots-Tag:noindex
X-PUBLISHED-TTL:PT1H
BEGIN:VTIMEZONE
TZID:Europe/Madrid
BEGIN:DAYLIGHT
TZOFFSETFROM:+0100
TZOFFSETTO:+0200
TZNAME:CEST
DTSTART:20240331T010000
END:DAYLIGHT
BEGIN:STANDARD
TZOFFSETFROM:+0200
TZOFFSETTO:+0100
TZNAME:CET
DTSTART:20241027T010000
END:STANDARD
BEGIN:DAYLIGHT
TZOFFSETFROM:+0100
TZOFFSETTO:+0200
TZNAME:CEST
DTSTART:20250330T010000
END:DAYLIGHT
BEGIN:STANDARD
TZOFFSETFROM:+0200
TZOFFSETTO:+0100
TZNAME:CET
DTSTART:20251026T010000
END:STANDARD
BEGIN:DAYLIGHT
TZOFFSETFROM:+0100
TZOFFSETTO:+0200
TZNAME:CEST
DTSTART:20260329T010000
END:DAYLIGHT
BEGIN:STANDARD
TZOFFSETFROM:+0200
TZOFFSETTO:+0100
TZNAME:CET
DTSTART:20261025T010000
END:STANDARD
END:VTIMEZONE
BEGIN:VEVENT
DTSTART;TZID=Europe/Madrid:20250308T193000
DTEND;TZID=Europe/Madrid:20250308T210000
DTSTAMP:20260422T235738
CREATED:20250213T075055Z
LAST-MODIFIED:20250309T125719Z
UID:10000067-1741462200-1741467600@lachirigotadelbizcocho.com
SUMMARY:"Los Hermanos del Buen Fin" en San José de la Rinconada
DESCRIPTION:
URL:https://lachirigotadelbizcocho.com/actuacion/los-hermanos-del-buen-fin-en-san-jose-de-la-rinconada/
LOCATION:Recinto «El Abrazo»\, Av. de la Unión\, La Rinconada\, Sevilla\, 41300\, España
CATEGORIES:Los Hermanos del Buen Fin
ATTACH;FMTTYPE=image/jpeg:https://lachirigotadelbizcocho.com/wp-content/uploads/2025/02/20250308-San-Jose-de-la-Rinconada-2.jpg
END:VEVENT
END:VCALENDAR