BEGIN:VCALENDAR
VERSION:2.0
PRODID:-//La Chirigota del Bizcocho - ECPv6.15.20//NONSGML v1.0//EN
CALSCALE:GREGORIAN
METHOD:PUBLISH
X-ORIGINAL-URL:https://lachirigotadelbizcocho.com
X-WR-CALDESC:Eventos para La Chirigota del Bizcocho
REFRESH-INTERVAL;VALUE=DURATION:PT1H
X-Robots-Tag:noindex
X-PUBLISHED-TTL:PT1H
BEGIN:VTIMEZONE
TZID:Europe/Madrid
BEGIN:DAYLIGHT
TZOFFSETFROM:+0100
TZOFFSETTO:+0200
TZNAME:CEST
DTSTART:20240331T010000
END:DAYLIGHT
BEGIN:STANDARD
TZOFFSETFROM:+0200
TZOFFSETTO:+0100
TZNAME:CET
DTSTART:20241027T010000
END:STANDARD
BEGIN:DAYLIGHT
TZOFFSETFROM:+0100
TZOFFSETTO:+0200
TZNAME:CEST
DTSTART:20250330T010000
END:DAYLIGHT
BEGIN:STANDARD
TZOFFSETFROM:+0200
TZOFFSETTO:+0100
TZNAME:CET
DTSTART:20251026T010000
END:STANDARD
BEGIN:DAYLIGHT
TZOFFSETFROM:+0100
TZOFFSETTO:+0200
TZNAME:CEST
DTSTART:20260329T010000
END:DAYLIGHT
BEGIN:STANDARD
TZOFFSETFROM:+0200
TZOFFSETTO:+0100
TZNAME:CET
DTSTART:20261025T010000
END:STANDARD
END:VTIMEZONE
BEGIN:VEVENT
DTSTART;TZID=Europe/Madrid:20250423T200000
DTEND;TZID=Europe/Madrid:20250423T220000
DTSTAMP:20260420T093419
CREATED:20241203T150414Z
LAST-MODIFIED:20250327T110924Z
UID:10000051-1745438400-1745445600@lachirigotadelbizcocho.com
SUMMARY:"Los Hermanos del Buen Fin" en Huelva
DESCRIPTION:
URL:https://lachirigotadelbizcocho.com/actuacion/los-hermanos-del-buen-fin-en-huelva/
LOCATION:Gran Teatro de Huelva\, Calle Vázquez López\, 13\, Huelva\, Huelva\, 21001\, España
CATEGORIES:Los Hermanos del Buen Fin
ATTACH;FMTTYPE=image/jpeg:https://lachirigotadelbizcocho.com/wp-content/uploads/2024/12/20250423-Huelva-Vertical-v3-scaled.jpg
ORGANIZER;CN="Katalina Producciones":MAILTO:contacto@katalinaproducciones.com
END:VEVENT
BEGIN:VEVENT
DTSTART;TZID=Europe/Madrid:20250426T183000
DTEND;TZID=Europe/Madrid:20250426T203000
DTSTAMP:20260420T093419
CREATED:20250102T130925Z
LAST-MODIFIED:20250327T111012Z
UID:10000054-1745692200-1745699400@lachirigotadelbizcocho.com
SUMMARY:"Los Hermanos del Buen Fin" en Atarfe (Granada)
DESCRIPTION:
URL:https://lachirigotadelbizcocho.com/actuacion/los-hermanos-del-buen-fin-en-atarfe-granada/
LOCATION:Centro Cultural Medina Elvira\, Av. Diputación\, S/N\, Atarfe\, Granada\, 18230
CATEGORIES:Los Hermanos del Buen Fin
ATTACH;FMTTYPE=image/jpeg:https://lachirigotadelbizcocho.com/wp-content/uploads/2025/01/20250426-Atarfe-Vertical-v3-scaled.jpg
ORGANIZER;CN="Katalina Producciones":MAILTO:contacto@katalinaproducciones.com
END:VEVENT
BEGIN:VEVENT
DTSTART;TZID=Europe/Madrid:20250426T200000
DTEND;TZID=Europe/Madrid:20250426T200000
DTSTAMP:20260420T093419
CREATED:20250212T001024Z
LAST-MODIFIED:20250408T201500Z
UID:10000063-1745697600-1745697600@lachirigotadelbizcocho.com
SUMMARY:Gran Gala de Carnaval en Dos Hermanas (Sevilla)
DESCRIPTION:
URL:https://lachirigotadelbizcocho.com/actuacion/gran-gala-de-carnaval-en-dos-hermanas-sevilla/
LOCATION:Auditorio Municipal «Los del Río»\, C. las Pedreras\, s/n\, Dos Hermanas\, Sevilla\, 41704\, España
CATEGORIES:Los Hermanos del Buen Fin
ATTACH;FMTTYPE=image/jpeg:https://lachirigotadelbizcocho.com/wp-content/uploads/2025/02/20250426-Dos-Hermanas.jpeg
END:VEVENT
BEGIN:VEVENT
DTSTART;TZID=Europe/Madrid:20250427T200000
DTEND;TZID=Europe/Madrid:20250427T220000
DTSTAMP:20260420T093419
CREATED:20250102T130557Z
LAST-MODIFIED:20250327T111043Z
UID:10000053-1745784000-1745791200@lachirigotadelbizcocho.com
SUMMARY:"Los Hermanos del Buen Fin" en Málaga
DESCRIPTION:
URL:https://lachirigotadelbizcocho.com/actuacion/los-hermanos-del-buen-fin-en-malaga/
LOCATION:Auditorio Manuel de Falla\, Pl. del Maestro Artola\, 2\, Distrito Centro\, Málaga\, Málaga\, 29013\, España
CATEGORIES:Los Hermanos del Buen Fin
ATTACH;FMTTYPE=image/jpeg:https://lachirigotadelbizcocho.com/wp-content/uploads/2024/12/20250427-Malaga-Vertical-v3-scaled.jpg
ORGANIZER;CN="Katalina Producciones":MAILTO:contacto@katalinaproducciones.com
END:VEVENT
END:VCALENDAR