BEGIN:VCALENDAR
VERSION:2.0
PRODID:-//La Chirigota del Bizcocho - ECPv6.15.20//NONSGML v1.0//EN
CALSCALE:GREGORIAN
METHOD:PUBLISH
X-ORIGINAL-URL:https://lachirigotadelbizcocho.com
X-WR-CALDESC:Eventos para La Chirigota del Bizcocho
REFRESH-INTERVAL;VALUE=DURATION:PT1H
X-Robots-Tag:noindex
X-PUBLISHED-TTL:PT1H
BEGIN:VTIMEZONE
TZID:Europe/Madrid
BEGIN:DAYLIGHT
TZOFFSETFROM:+0100
TZOFFSETTO:+0200
TZNAME:CEST
DTSTART:20240331T010000
END:DAYLIGHT
BEGIN:STANDARD
TZOFFSETFROM:+0200
TZOFFSETTO:+0100
TZNAME:CET
DTSTART:20241027T010000
END:STANDARD
BEGIN:DAYLIGHT
TZOFFSETFROM:+0100
TZOFFSETTO:+0200
TZNAME:CEST
DTSTART:20250330T010000
END:DAYLIGHT
BEGIN:STANDARD
TZOFFSETFROM:+0200
TZOFFSETTO:+0100
TZNAME:CET
DTSTART:20251026T010000
END:STANDARD
BEGIN:DAYLIGHT
TZOFFSETFROM:+0100
TZOFFSETTO:+0200
TZNAME:CEST
DTSTART:20260329T010000
END:DAYLIGHT
BEGIN:STANDARD
TZOFFSETFROM:+0200
TZOFFSETTO:+0100
TZNAME:CET
DTSTART:20261025T010000
END:STANDARD
END:VTIMEZONE
BEGIN:VEVENT
DTSTART;TZID=Europe/Madrid:20250503T200000
DTEND;TZID=Europe/Madrid:20250503T200000
DTSTAMP:20260420T075631
CREATED:20250122T115026Z
LAST-MODIFIED:20250206T074823Z
UID:10000058-1746302400-1746302400@lachirigotadelbizcocho.com
SUMMARY:"Los Hermanos del Buen Fin" en Bilbao
DESCRIPTION:
URL:https://lachirigotadelbizcocho.com/actuacion/los-hermanos-del-buen-fin-en-bilbao/
LOCATION:Teatro Campos Elíseos Antzokia\, C. de Bertendona\, 3\, Bilbao\, Bizkaia\, 48008
CATEGORIES:Los Hermanos del Buen Fin
ATTACH;FMTTYPE=image/jpeg:https://lachirigotadelbizcocho.com/wp-content/uploads/2025/01/20250503-Bilbao-v2-scaled.jpg
ORGANIZER;CN="Katalina Producciones":MAILTO:contacto@katalinaproducciones.com
END:VEVENT
BEGIN:VEVENT
DTSTART;TZID=Europe/Madrid:20250510T170000
DTEND;TZID=Europe/Madrid:20250510T223000
DTSTAMP:20260420T075631
CREATED:20250212T001223Z
LAST-MODIFIED:20250325T102123Z
UID:10000064-1746896400-1746916200@lachirigotadelbizcocho.com
SUMMARY:Carnavalencia "Porque me da la DANA"
DESCRIPTION:
URL:https://lachirigotadelbizcocho.com/actuacion/los-hermanos-del-buen-fin-en-valencia/
LOCATION:Campoval\, Vía Camino S/N\, Valencia\, Valencia\, 46210\, España
CATEGORIES:Los Hermanos del Buen Fin
ATTACH;FMTTYPE=image/jpeg:https://lachirigotadelbizcocho.com/wp-content/uploads/2025/02/20250510-Valencia-v2.jpg
END:VEVENT
BEGIN:VEVENT
DTSTART;TZID=Europe/Madrid:20250511T123000
DTEND;TZID=Europe/Madrid:20250511T123000
DTSTAMP:20260420T075631
CREATED:20250212T001242Z
LAST-MODIFIED:20250317T110338Z
UID:10000065-1746966600-1746966600@lachirigotadelbizcocho.com
SUMMARY:"Los Hermanos del Buen Fin" en Madrid
DESCRIPTION:
URL:https://lachirigotadelbizcocho.com/actuacion/los-hermanos-del-buen-fin-en-madrid/
LOCATION:Teatro La Latina\, Pl. de la Cebada\, 2\, Centro\, Madrid\, Madrid\, 28005\, España
CATEGORIES:Los Hermanos del Buen Fin
ATTACH;FMTTYPE=image/jpeg:https://lachirigotadelbizcocho.com/wp-content/uploads/2025/02/20250511-Madrid_web.jpg
ORGANIZER;CN="Katalina Producciones":MAILTO:contacto@katalinaproducciones.com
END:VEVENT
BEGIN:VEVENT
DTSTART;TZID=Europe/Madrid:20250518T200000
DTEND;TZID=Europe/Madrid:20250518T220000
DTSTAMP:20260420T075631
CREATED:20250102T131332Z
LAST-MODIFIED:20250327T111129Z
UID:10000056-1747598400-1747605600@lachirigotadelbizcocho.com
SUMMARY:"Los Hermanos del Buen Fin" en Córdoba
DESCRIPTION:
URL:https://lachirigotadelbizcocho.com/actuacion/los-hermanos-del-buen-fin-en-cordoba/
LOCATION:Teatro El Brillante\, Colegio la Salle\, Ctra. de las Ermitas Entrada Principal\, Córdoba\, Córdoba\, 14012
CATEGORIES:Los Hermanos del Buen Fin
ATTACH;FMTTYPE=image/jpeg:https://lachirigotadelbizcocho.com/wp-content/uploads/2024/12/20250518-Cordoba-Vertical-v3-scaled.jpg
ORGANIZER;CN="Katalina Producciones":MAILTO:contacto@katalinaproducciones.com
END:VEVENT
END:VCALENDAR