BEGIN:VCALENDAR
VERSION:2.0
PRODID:-//La Chirigota del Bizcocho - ECPv6.15.20//NONSGML v1.0//EN
CALSCALE:GREGORIAN
METHOD:PUBLISH
X-ORIGINAL-URL:https://lachirigotadelbizcocho.com
X-WR-CALDESC:Eventos para La Chirigota del Bizcocho
REFRESH-INTERVAL;VALUE=DURATION:PT1H
X-Robots-Tag:noindex
X-PUBLISHED-TTL:PT1H
BEGIN:VTIMEZONE
TZID:Europe/Madrid
BEGIN:DAYLIGHT
TZOFFSETFROM:+0100
TZOFFSETTO:+0200
TZNAME:CEST
DTSTART:20240331T010000
END:DAYLIGHT
BEGIN:STANDARD
TZOFFSETFROM:+0200
TZOFFSETTO:+0100
TZNAME:CET
DTSTART:20241027T010000
END:STANDARD
BEGIN:DAYLIGHT
TZOFFSETFROM:+0100
TZOFFSETTO:+0200
TZNAME:CEST
DTSTART:20250330T010000
END:DAYLIGHT
BEGIN:STANDARD
TZOFFSETFROM:+0200
TZOFFSETTO:+0100
TZNAME:CET
DTSTART:20251026T010000
END:STANDARD
BEGIN:DAYLIGHT
TZOFFSETFROM:+0100
TZOFFSETTO:+0200
TZNAME:CEST
DTSTART:20260329T010000
END:DAYLIGHT
BEGIN:STANDARD
TZOFFSETFROM:+0200
TZOFFSETTO:+0100
TZNAME:CET
DTSTART:20261025T010000
END:STANDARD
END:VTIMEZONE
BEGIN:VEVENT
DTSTART;TZID=Europe/Madrid:20250704T210000
DTEND;TZID=Europe/Madrid:20250704T210000
DTSTAMP:20260420T043831
CREATED:20250408T072921Z
LAST-MODIFIED:20250410T110322Z
UID:10000076-1751662800-1751662800@lachirigotadelbizcocho.com
SUMMARY:II Noche Carnavalesca en Écija
DESCRIPTION:
URL:https://lachirigotadelbizcocho.com/actuacion/ii-noche-carnavalesca-en-ecija/
LOCATION:EEPP SAFA Écija\, Av. Dr. Sánchez Malo\, 75\, Écija\, Sevilla\, 41400\, España
CATEGORIES:Los Hermanos del Buen Fin
ATTACH;FMTTYPE=image/jpeg:https://lachirigotadelbizcocho.com/wp-content/uploads/2025/04/20250704-Ecija.jpg
END:VEVENT
BEGIN:VEVENT
DTSTART;TZID=Europe/Madrid:20250705T220000
DTEND;TZID=Europe/Madrid:20250705T220000
DTSTAMP:20260420T043831
CREATED:20250330T175919Z
LAST-MODIFIED:20250407T171305Z
UID:10000075-1751752800-1751752800@lachirigotadelbizcocho.com
SUMMARY:Noches con Encanto en Coín (Málaga)
DESCRIPTION:
URL:https://lachirigotadelbizcocho.com/actuacion/noches-con-encanto-en-coin-malaga/
LOCATION:Auditorio Parque Leonor\, Zona Sgal.3\, 115\, Coín\, Málaga\, 29100\, España
CATEGORIES:Los Hermanos del Buen Fin
ATTACH;FMTTYPE=image/jpeg:https://lachirigotadelbizcocho.com/wp-content/uploads/2025/03/20250705-Coin-1.jpg
END:VEVENT
BEGIN:VEVENT
DTSTART;TZID=Europe/Madrid:20250712T183000
DTEND;TZID=Europe/Madrid:20250712T183000
DTSTAMP:20260420T043831
CREATED:20250521T160825Z
LAST-MODIFIED:20250522T120935Z
UID:10000081-1752345000-1752345000@lachirigotadelbizcocho.com
SUMMARY:XVII Noche Carnavalesca de Torredonjimeno
DESCRIPTION:
URL:https://lachirigotadelbizcocho.com/actuacion/xvii-noche-carnavalesca-de-torredonjimeno/
LOCATION:Polideportivo «Matías Prats»\, Av. de Jaén\, 3\, Torredonjimeno\, Jaén\, 23650\, Spain
CATEGORIES:Los Hermanos del Buen Fin
ATTACH;FMTTYPE=image/jpeg:https://lachirigotadelbizcocho.com/wp-content/uploads/2025/05/20250712-Torredonjimeno.jpg
END:VEVENT
END:VCALENDAR