BEGIN:VCALENDAR
VERSION:2.0
PRODID:-//La Chirigota del Bizcocho - ECPv6.15.20//NONSGML v1.0//EN
CALSCALE:GREGORIAN
METHOD:PUBLISH
X-WR-CALNAME:La Chirigota del Bizcocho
X-ORIGINAL-URL:https://lachirigotadelbizcocho.com
X-WR-CALDESC:Eventos para La Chirigota del Bizcocho
REFRESH-INTERVAL;VALUE=DURATION:PT1H
X-Robots-Tag:noindex
X-PUBLISHED-TTL:PT1H
BEGIN:VTIMEZONE
TZID:Europe/Madrid
BEGIN:DAYLIGHT
TZOFFSETFROM:+0100
TZOFFSETTO:+0200
TZNAME:CEST
DTSTART:20250330T010000
END:DAYLIGHT
BEGIN:STANDARD
TZOFFSETFROM:+0200
TZOFFSETTO:+0100
TZNAME:CET
DTSTART:20251026T010000
END:STANDARD
BEGIN:DAYLIGHT
TZOFFSETFROM:+0100
TZOFFSETTO:+0200
TZNAME:CEST
DTSTART:20260329T010000
END:DAYLIGHT
BEGIN:STANDARD
TZOFFSETFROM:+0200
TZOFFSETTO:+0100
TZNAME:CET
DTSTART:20261025T010000
END:STANDARD
BEGIN:DAYLIGHT
TZOFFSETFROM:+0100
TZOFFSETTO:+0200
TZNAME:CEST
DTSTART:20270328T010000
END:DAYLIGHT
BEGIN:STANDARD
TZOFFSETFROM:+0200
TZOFFSETTO:+0100
TZNAME:CET
DTSTART:20271031T010000
END:STANDARD
END:VTIMEZONE
BEGIN:VEVENT
DTSTART;TZID=Europe/Madrid:20260701T193000
DTEND;TZID=Europe/Madrid:20260701T230000
DTSTAMP:20260419T144025
CREATED:20251210T140452Z
LAST-MODIFIED:20260410T001106Z
UID:10000090-1782934200-1782946800@lachirigotadelbizcocho.com
SUMMARY:"Ssshhhhh!!" en Sanlúcar de Barrameda (Buque La Pepa)
DESCRIPTION:
URL:https://lachirigotadelbizcocho.com/actuacion/ssshhhhh-en-sanlucar-de-barrameda-buque-la-pepa/
LOCATION:Buque La Pepa\, QJRW+2V Sanlúcar de Barrameda\, Sanlúcar de Barrameda\, España
CATEGORIES:Ssshhhhh!!
ATTACH;FMTTYPE=image/jpeg:https://lachirigotadelbizcocho.com/wp-content/uploads/2025/12/20260701-Sanlucar-de-Barrameda-v2-Cuadrado.jpg
ORGANIZER;CN="Aguatap%C3%A1 Eventos":MAILTO:contacto@aguatapa.com
END:VEVENT
BEGIN:VEVENT
DTSTART;TZID=Europe/Madrid:20260710T210000
DTEND;TZID=Europe/Madrid:20260710T223000
DTSTAMP:20260419T144025
CREATED:20260330T103302Z
LAST-MODIFIED:20260411T231614Z
UID:10000154-1783717200-1783722600@lachirigotadelbizcocho.com
SUMMARY:"Ssshhhhh!!" en Triana
DESCRIPTION:
URL:https://lachirigotadelbizcocho.com/actuacion/ssshhhhh-en-triana/
LOCATION:Patio de Triana\, Condes de Bustillo\, 17\, Sevilla\, Sevilla\, 41010\, España
CATEGORIES:Ssshhhhh!!
ATTACH;FMTTYPE=image/jpeg:https://lachirigotadelbizcocho.com/wp-content/uploads/2026/03/20260710-Patio-de-Triana-Cuadrado.jpg
END:VEVENT
BEGIN:VEVENT
DTSTART;TZID=Europe/Madrid:20260710T220000
DTEND;TZID=Europe/Madrid:20260711T030000
DTSTAMP:20260419T144025
CREATED:20260312T135718Z
LAST-MODIFIED:20260327T082221Z
UID:10000147-1783720800-1783738800@lachirigotadelbizcocho.com
SUMMARY:XXVIII Festival Carnavalesco de Lucena "Carnavaluc"
DESCRIPTION:
URL:https://lachirigotadelbizcocho.com/actuacion/xxviii-festival-carnavalesco-de-lucena-carnavaluc/
LOCATION:Auditorio Municipal Manuel Lara Cantizani\, C. de los Claveles\, 3\, Lucena\, Córdoba\, 14900\, España
CATEGORIES:Ssshhhhh!!
ATTACH;FMTTYPE=image/jpeg:https://lachirigotadelbizcocho.com/wp-content/uploads/2026/03/20260710-Lucena.jpg
END:VEVENT
BEGIN:VEVENT
DTSTART;TZID=Europe/Madrid:20260711T200000
DTEND;TZID=Europe/Madrid:20260711T235900
DTSTAMP:20260419T144025
CREATED:20260303T004604Z
LAST-MODIFIED:20260303T004604Z
UID:10000141-1783800000-1783814340@lachirigotadelbizcocho.com
SUMMARY:XVIII Noche Carnavalesca en Torredonjimeno (Jaén)
DESCRIPTION:
URL:https://lachirigotadelbizcocho.com/actuacion/xviii-noche-carnavalesca-en-torredonjimeno-jaen/
LOCATION:Polideportivo «Matías Prats»\, Av. de Jaén\, 3\, Torredonjimeno\, Jaén\, 23650\, Spain
CATEGORIES:Ssshhhhh!!
ATTACH;FMTTYPE=image/jpeg:https://lachirigotadelbizcocho.com/wp-content/uploads/2026/03/20260711-Torredonjimeno.jpg
END:VEVENT
BEGIN:VEVENT
DTSTART;TZID=Europe/Madrid:20260711T210000
DTEND;TZID=Europe/Madrid:20260711T235900
DTSTAMP:20260419T144025
CREATED:20260130T174523Z
LAST-MODIFIED:20260414T114413Z
UID:10000107-1783803600-1783814340@lachirigotadelbizcocho.com
SUMMARY:III Noche Carnavalesca en Écija
DESCRIPTION:
URL:https://lachirigotadelbizcocho.com/actuacion/ssshhhhh-en-ecija/
LOCATION:EEPP SAFA Écija\, Av. Dr. Sánchez Malo\, 75\, Écija\, Sevilla\, 41400\, España
CATEGORIES:Ssshhhhh!!
ATTACH;FMTTYPE=image/jpeg:https://lachirigotadelbizcocho.com/wp-content/uploads/2026/01/20260711-Ecija-2.jpg
END:VEVENT
END:VCALENDAR