BEGIN:VCALENDAR
VERSION:2.0
PRODID:-//La Chirigota del Bizcocho - ECPv6.15.20//NONSGML v1.0//EN
CALSCALE:GREGORIAN
METHOD:PUBLISH
X-ORIGINAL-URL:https://lachirigotadelbizcocho.com
X-WR-CALDESC:Eventos para La Chirigota del Bizcocho
REFRESH-INTERVAL;VALUE=DURATION:PT1H
X-Robots-Tag:noindex
X-PUBLISHED-TTL:PT1H
BEGIN:VTIMEZONE
TZID:Europe/Madrid
BEGIN:DAYLIGHT
TZOFFSETFROM:+0100
TZOFFSETTO:+0200
TZNAME:CEST
DTSTART:20230326T010000
END:DAYLIGHT
BEGIN:STANDARD
TZOFFSETFROM:+0200
TZOFFSETTO:+0100
TZNAME:CET
DTSTART:20231029T010000
END:STANDARD
BEGIN:DAYLIGHT
TZOFFSETFROM:+0100
TZOFFSETTO:+0200
TZNAME:CEST
DTSTART:20240331T010000
END:DAYLIGHT
BEGIN:STANDARD
TZOFFSETFROM:+0200
TZOFFSETTO:+0100
TZNAME:CET
DTSTART:20241027T010000
END:STANDARD
BEGIN:DAYLIGHT
TZOFFSETFROM:+0100
TZOFFSETTO:+0200
TZNAME:CEST
DTSTART:20250330T010000
END:DAYLIGHT
BEGIN:STANDARD
TZOFFSETFROM:+0200
TZOFFSETTO:+0100
TZNAME:CET
DTSTART:20251026T010000
END:STANDARD
BEGIN:DAYLIGHT
TZOFFSETFROM:+0100
TZOFFSETTO:+0200
TZNAME:CEST
DTSTART:20260329T010000
END:DAYLIGHT
BEGIN:STANDARD
TZOFFSETFROM:+0200
TZOFFSETTO:+0100
TZNAME:CET
DTSTART:20261025T010000
END:STANDARD
BEGIN:DAYLIGHT
TZOFFSETFROM:+0100
TZOFFSETTO:+0200
TZNAME:CEST
DTSTART:20270328T010000
END:DAYLIGHT
BEGIN:STANDARD
TZOFFSETFROM:+0200
TZOFFSETTO:+0100
TZNAME:CET
DTSTART:20271031T010000
END:STANDARD
END:VTIMEZONE
BEGIN:VEVENT
DTSTART;TZID=Europe/Madrid:20260419T190000
DTEND;TZID=Europe/Madrid:20260419T210000
DTSTAMP:20260421T164938
CREATED:20251120T200049Z
LAST-MODIFIED:20260414T122000Z
UID:10000088-1776625200-1776632400@lachirigotadelbizcocho.com
SUMMARY:"Ssshhhhh!!" en Badajoz
DESCRIPTION:
URL:https://lachirigotadelbizcocho.com/actuacion/ssshhhhh-en-badajoz/
LOCATION:Palacio de Congresos de Badajoz\, Rda. del Pilar\, S/N\, Badajoz\, Badajoz\, 06002\, España
CATEGORIES:Ssshhhhh!!
ATTACH;FMTTYPE=image/jpeg:https://lachirigotadelbizcocho.com/wp-content/uploads/2025/11/20260419-Badajoz-v2-Cuadrado-1.jpg
ORGANIZER;CN="Katalina Producciones":MAILTO:contacto@katalinaproducciones.com
END:VEVENT
BEGIN:VEVENT
DTSTART;TZID=Europe/Madrid:20260412T123000
DTEND;TZID=Europe/Madrid:20260412T143000
DTSTAMP:20260421T164938
CREATED:20251120T200313Z
LAST-MODIFIED:20260414T122214Z
UID:10000089-1775997000-1776004200@lachirigotadelbizcocho.com
SUMMARY:"Ssshhhhh!!" en Madrid
DESCRIPTION:
URL:https://lachirigotadelbizcocho.com/actuacion/ssshhhhh-en-madrid/
LOCATION:Teatro La Latina\, Pl. de la Cebada\, 2\, Centro\, Madrid\, Madrid\, 28005\, España
CATEGORIES:Ssshhhhh!!
ATTACH;FMTTYPE=image/jpeg:https://lachirigotadelbizcocho.com/wp-content/uploads/2026/01/20260412-Madrid-v2-Cuadrado-scaled.jpg
ORGANIZER;CN="Katalina Producciones":MAILTO:contacto@katalinaproducciones.com
END:VEVENT
BEGIN:VEVENT
DTSTART;TZID=Europe/Madrid:20260322T190000
DTEND;TZID=Europe/Madrid:20260322T203000
DTSTAMP:20260421T164938
CREATED:20260220T112123Z
LAST-MODIFIED:20260414T122149Z
UID:10000133-1774206000-1774211400@lachirigotadelbizcocho.com
SUMMARY:"Ssshhhhh!!" en Atarfe (Granada)
DESCRIPTION:
URL:https://lachirigotadelbizcocho.com/actuacion/ssshhhhh-en-atarfe-granada/
LOCATION:Centro Cultural Medina Elvira\, Av. Diputación\, S/N\, Atarfe\, Granada\, 18230
CATEGORIES:Ssshhhhh!!
ATTACH;FMTTYPE=image/jpeg:https://lachirigotadelbizcocho.com/wp-content/uploads/2026/02/20260322-Atarfe-Cuadrado.jpg
ORGANIZER;CN="Katalina Producciones":MAILTO:contacto@katalinaproducciones.com
END:VEVENT
BEGIN:VEVENT
DTSTART;TZID=Europe/Madrid:20260320T210000
DTEND;TZID=Europe/Madrid:20260320T223000
DTSTAMP:20260421T164938
CREATED:20260305T155423Z
LAST-MODIFIED:20260414T122139Z
UID:10000143-1774040400-1774045800@lachirigotadelbizcocho.com
SUMMARY:"Ssshhhhh!!" en Córdoba
DESCRIPTION:
URL:https://lachirigotadelbizcocho.com/actuacion/ssshhhhh-en-cordoba/
LOCATION:Teatro El Brillante\, Colegio la Salle\, Ctra. de las Ermitas Entrada Principal\, Córdoba\, Córdoba\, 14012
CATEGORIES:Ssshhhhh!!
ATTACH;FMTTYPE=image/jpeg:https://lachirigotadelbizcocho.com/wp-content/uploads/2026/03/20260320-Cordoba-Cuadrado-2.jpg
ORGANIZER;CN="Katalina Producciones":MAILTO:contacto@katalinaproducciones.com
END:VEVENT
BEGIN:VEVENT
DTSTART;TZID=Europe/Madrid:20260315T123000
DTEND;TZID=Europe/Madrid:20260315T140000
DTSTAMP:20260421T164938
CREATED:20260218T110047Z
LAST-MODIFIED:20260414T122122Z
UID:10000123-1773577800-1773583200@lachirigotadelbizcocho.com
SUMMARY:"Ssshhhhh!!" en Sevilla
DESCRIPTION:
URL:https://lachirigotadelbizcocho.com/actuacion/ssshhhhh-en-sevilla-2/
LOCATION:Auditorio Cartuja\, C. Albert Einstein\, s/n\, Sevilla\, Sevilla\, 41092\, España
CATEGORIES:Ssshhhhh!!
ATTACH;FMTTYPE=image/jpeg:https://lachirigotadelbizcocho.com/wp-content/uploads/2026/02/20260315-Sevilla-Cuadrado-scaled.jpg
ORGANIZER;CN="Katalina Producciones":MAILTO:contacto@katalinaproducciones.com
END:VEVENT
BEGIN:VEVENT
DTSTART;TZID=Europe/Madrid:20260314T200000
DTEND;TZID=Europe/Madrid:20260314T213000
DTSTAMP:20260421T164938
CREATED:20260214T135518Z
LAST-MODIFIED:20260414T122104Z
UID:10000114-1773518400-1773523800@lachirigotadelbizcocho.com
SUMMARY:"Ssshhhhh!!" en Sevilla
DESCRIPTION:
URL:https://lachirigotadelbizcocho.com/actuacion/ssshhhhh-en-sevilla/
LOCATION:Auditorio Cartuja\, C. Albert Einstein\, s/n\, Sevilla\, Sevilla\, 41092\, España
CATEGORIES:Ssshhhhh!!
ATTACH;FMTTYPE=image/jpeg:https://lachirigotadelbizcocho.com/wp-content/uploads/2026/02/20260314-Sevilla-Cuadrado.jpg
ORGANIZER;CN="Katalina Producciones":MAILTO:contacto@katalinaproducciones.com
END:VEVENT
BEGIN:VEVENT
DTSTART;TZID=Europe/Madrid:20260314T170000
DTEND;TZID=Europe/Madrid:20260314T183000
DTSTAMP:20260421T164938
CREATED:20260222T110044Z
LAST-MODIFIED:20260414T122044Z
UID:10000135-1773507600-1773513000@lachirigotadelbizcocho.com
SUMMARY:"Ssshhhhh!!" en Sevilla
DESCRIPTION:
URL:https://lachirigotadelbizcocho.com/actuacion/ssshhhhh-en-sevilla-3/
LOCATION:Auditorio Cartuja\, C. Albert Einstein\, s/n\, Sevilla\, Sevilla\, 41092\, España
CATEGORIES:Ssshhhhh!!
ATTACH;FMTTYPE=image/jpeg:https://lachirigotadelbizcocho.com/wp-content/uploads/2026/02/20260314-Sevilla-17h-Cuadrado.jpg
ORGANIZER;CN="Katalina Producciones":MAILTO:contacto@katalinaproducciones.com
END:VEVENT
BEGIN:VEVENT
DTSTART;TZID=Europe/Madrid:20260227T200000
DTEND;TZID=Europe/Madrid:20260227T220000
DTSTAMP:20260421T164938
CREATED:20260218T110109Z
LAST-MODIFIED:20260219T194542Z
UID:10000121-1772222400-1772229600@lachirigotadelbizcocho.com
SUMMARY:"Ssshhhhh!!" en Cádiz
DESCRIPTION:
URL:https://lachirigotadelbizcocho.com/actuacion/ssshhhhh-en-cadiz/
LOCATION:Auditorio Esclavas\, Calle Santa Rafaela María\, Cádiz\, Cádiz\, 11008\, España
CATEGORIES:Ssshhhhh!!
ATTACH;FMTTYPE=image/jpeg:https://lachirigotadelbizcocho.com/wp-content/uploads/2026/02/20260227-Cadiz-Cuadrado-2.jpg
ORGANIZER;CN="Katalina Producciones":MAILTO:contacto@katalinaproducciones.com
END:VEVENT
BEGIN:VEVENT
DTSTART;TZID=Europe/Madrid:20251031T210000
DTEND;TZID=Europe/Madrid:20251031T223000
DTSTAMP:20260421T164938
CREATED:20251221T192416Z
LAST-MODIFIED:20251221T192417Z
UID:10000084-1761944400-1761949800@lachirigotadelbizcocho.com
SUMMARY:El Día de la Gran Verdad
DESCRIPTION:
URL:https://lachirigotadelbizcocho.com/actuacion/el-dia-de-la-gran-verdad-2/
LOCATION:Centro Cultural de la Villa\, Vereda de los Chapatales\, 2\, Sevilla\, San José de la Rinconada\, 41300\, España
CATEGORIES:Los Hermanos del Buen Fin
ATTACH;FMTTYPE=image/jpeg:https://lachirigotadelbizcocho.com/wp-content/uploads/2025/09/20251031-Dia-de-la-Gran-Verdad-v2.jpg
ORGANIZER;CN="Katalina Producciones":MAILTO:contacto@katalinaproducciones.com
END:VEVENT
BEGIN:VEVENT
DTSTART;TZID=Europe/Madrid:20251031T180000
DTEND;TZID=Europe/Madrid:20251031T193000
DTSTAMP:20260421T164938
CREATED:20250913T130107Z
LAST-MODIFIED:20251026T180954Z
UID:10000085-1761933600-1761939000@lachirigotadelbizcocho.com
SUMMARY:El Día de la Gran Verdad
DESCRIPTION:
URL:https://lachirigotadelbizcocho.com/actuacion/el-dia-de-la-gran-verdad/
LOCATION:Centro Cultural de la Villa\, Vereda de los Chapatales\, 2\, Sevilla\, San José de la Rinconada\, 41300\, España
CATEGORIES:Los Hermanos del Buen Fin
ATTACH;FMTTYPE=image/jpeg:https://lachirigotadelbizcocho.com/wp-content/uploads/2025/09/20251031-Dia-de-la-Gran-Verdad-v2.jpg
ORGANIZER;CN="Katalina Producciones":MAILTO:contacto@katalinaproducciones.com
END:VEVENT
BEGIN:VEVENT
DTSTART;TZID=Europe/Madrid:20250906T203000
DTEND;TZID=Europe/Madrid:20250906T203000
DTSTAMP:20260421T164938
CREATED:20250522T114248Z
LAST-MODIFIED:20250618T160206Z
UID:10000082-1757190600-1757190600@lachirigotadelbizcocho.com
SUMMARY:II Aniversario de la Asociación Cultural Carnavalesca "El Pitijopo" - Sanlúcar de Barrameda (Cádiz)
DESCRIPTION:
URL:https://lachirigotadelbizcocho.com/actuacion/ii-aniversario-de-la-asociacion-cultural-carnavalesca-el-pitijopo-sanlucar-de-barrameda-cadiz/
LOCATION:Teatro Municipal de Sanlúcar de Barrameda\, Av. de las Piletas\, 13\, Sanlúcar de Barrameda\, Cádiz\, 11540
CATEGORIES:Los Hermanos del Buen Fin
ATTACH;FMTTYPE=image/jpeg:https://lachirigotadelbizcocho.com/wp-content/uploads/2025/05/20250906-Sanlucar-4.jpg
ORGANIZER;CN="Katalina Producciones":MAILTO:contacto@katalinaproducciones.com
END:VEVENT
BEGIN:VEVENT
DTSTART;TZID=Europe/Madrid:20250905T220000
DTEND;TZID=Europe/Madrid:20250905T220000
DTSTAMP:20260421T164938
CREATED:20250616T100018Z
LAST-MODIFIED:20250623T222137Z
UID:10000083-1757109600-1757109600@lachirigotadelbizcocho.com
SUMMARY:I Velada Carnavalesca "El Abrazo" - San José de la Rinconada (Sevilla)
DESCRIPTION:
URL:https://lachirigotadelbizcocho.com/actuacion/i-velada-carnavalesca-el-abrazo-san-jose-de-la-rinconada-sevilla/
LOCATION:Recinto «El Abrazo»\, Av. de la Unión\, La Rinconada\, Sevilla\, 41300\, España
CATEGORIES:Los Hermanos del Buen Fin
ATTACH;FMTTYPE=image/jpeg:https://lachirigotadelbizcocho.com/wp-content/uploads/2025/06/20250905-La-Rinconada-2.jpg
ORGANIZER;CN="Katalina Producciones":MAILTO:contacto@katalinaproducciones.com
END:VEVENT
BEGIN:VEVENT
DTSTART;TZID=Europe/Madrid:20250518T200000
DTEND;TZID=Europe/Madrid:20250518T220000
DTSTAMP:20260421T164938
CREATED:20250102T131332Z
LAST-MODIFIED:20250327T111129Z
UID:10000056-1747598400-1747605600@lachirigotadelbizcocho.com
SUMMARY:"Los Hermanos del Buen Fin" en Córdoba
DESCRIPTION:
URL:https://lachirigotadelbizcocho.com/actuacion/los-hermanos-del-buen-fin-en-cordoba/
LOCATION:Teatro El Brillante\, Colegio la Salle\, Ctra. de las Ermitas Entrada Principal\, Córdoba\, Córdoba\, 14012
CATEGORIES:Los Hermanos del Buen Fin
ATTACH;FMTTYPE=image/jpeg:https://lachirigotadelbizcocho.com/wp-content/uploads/2024/12/20250518-Cordoba-Vertical-v3-scaled.jpg
ORGANIZER;CN="Katalina Producciones":MAILTO:contacto@katalinaproducciones.com
END:VEVENT
BEGIN:VEVENT
DTSTART;TZID=Europe/Madrid:20250511T123000
DTEND;TZID=Europe/Madrid:20250511T123000
DTSTAMP:20260421T164938
CREATED:20250212T001242Z
LAST-MODIFIED:20250317T110338Z
UID:10000065-1746966600-1746966600@lachirigotadelbizcocho.com
SUMMARY:"Los Hermanos del Buen Fin" en Madrid
DESCRIPTION:
URL:https://lachirigotadelbizcocho.com/actuacion/los-hermanos-del-buen-fin-en-madrid/
LOCATION:Teatro La Latina\, Pl. de la Cebada\, 2\, Centro\, Madrid\, Madrid\, 28005\, España
CATEGORIES:Los Hermanos del Buen Fin
ATTACH;FMTTYPE=image/jpeg:https://lachirigotadelbizcocho.com/wp-content/uploads/2025/02/20250511-Madrid_web.jpg
ORGANIZER;CN="Katalina Producciones":MAILTO:contacto@katalinaproducciones.com
END:VEVENT
BEGIN:VEVENT
DTSTART;TZID=Europe/Madrid:20250503T200000
DTEND;TZID=Europe/Madrid:20250503T200000
DTSTAMP:20260421T164938
CREATED:20250122T115026Z
LAST-MODIFIED:20250206T074823Z
UID:10000058-1746302400-1746302400@lachirigotadelbizcocho.com
SUMMARY:"Los Hermanos del Buen Fin" en Bilbao
DESCRIPTION:
URL:https://lachirigotadelbizcocho.com/actuacion/los-hermanos-del-buen-fin-en-bilbao/
LOCATION:Teatro Campos Elíseos Antzokia\, C. de Bertendona\, 3\, Bilbao\, Bizkaia\, 48008
CATEGORIES:Los Hermanos del Buen Fin
ATTACH;FMTTYPE=image/jpeg:https://lachirigotadelbizcocho.com/wp-content/uploads/2025/01/20250503-Bilbao-v2-scaled.jpg
ORGANIZER;CN="Katalina Producciones":MAILTO:contacto@katalinaproducciones.com
END:VEVENT
BEGIN:VEVENT
DTSTART;TZID=Europe/Madrid:20250427T200000
DTEND;TZID=Europe/Madrid:20250427T220000
DTSTAMP:20260421T164938
CREATED:20250102T130557Z
LAST-MODIFIED:20250327T111043Z
UID:10000053-1745784000-1745791200@lachirigotadelbizcocho.com
SUMMARY:"Los Hermanos del Buen Fin" en Málaga
DESCRIPTION:
URL:https://lachirigotadelbizcocho.com/actuacion/los-hermanos-del-buen-fin-en-malaga/
LOCATION:Auditorio Manuel de Falla\, Pl. del Maestro Artola\, 2\, Distrito Centro\, Málaga\, Málaga\, 29013\, España
CATEGORIES:Los Hermanos del Buen Fin
ATTACH;FMTTYPE=image/jpeg:https://lachirigotadelbizcocho.com/wp-content/uploads/2024/12/20250427-Malaga-Vertical-v3-scaled.jpg
ORGANIZER;CN="Katalina Producciones":MAILTO:contacto@katalinaproducciones.com
END:VEVENT
BEGIN:VEVENT
DTSTART;TZID=Europe/Madrid:20250426T183000
DTEND;TZID=Europe/Madrid:20250426T203000
DTSTAMP:20260421T164938
CREATED:20250102T130925Z
LAST-MODIFIED:20250327T111012Z
UID:10000054-1745692200-1745699400@lachirigotadelbizcocho.com
SUMMARY:"Los Hermanos del Buen Fin" en Atarfe (Granada)
DESCRIPTION:
URL:https://lachirigotadelbizcocho.com/actuacion/los-hermanos-del-buen-fin-en-atarfe-granada/
LOCATION:Centro Cultural Medina Elvira\, Av. Diputación\, S/N\, Atarfe\, Granada\, 18230
CATEGORIES:Los Hermanos del Buen Fin
ATTACH;FMTTYPE=image/jpeg:https://lachirigotadelbizcocho.com/wp-content/uploads/2025/01/20250426-Atarfe-Vertical-v3-scaled.jpg
ORGANIZER;CN="Katalina Producciones":MAILTO:contacto@katalinaproducciones.com
END:VEVENT
BEGIN:VEVENT
DTSTART;TZID=Europe/Madrid:20250423T200000
DTEND;TZID=Europe/Madrid:20250423T220000
DTSTAMP:20260421T164938
CREATED:20241203T150414Z
LAST-MODIFIED:20250327T110924Z
UID:10000051-1745438400-1745445600@lachirigotadelbizcocho.com
SUMMARY:"Los Hermanos del Buen Fin" en Huelva
DESCRIPTION:
URL:https://lachirigotadelbizcocho.com/actuacion/los-hermanos-del-buen-fin-en-huelva/
LOCATION:Gran Teatro de Huelva\, Calle Vázquez López\, 13\, Huelva\, Huelva\, 21001\, España
CATEGORIES:Los Hermanos del Buen Fin
ATTACH;FMTTYPE=image/jpeg:https://lachirigotadelbizcocho.com/wp-content/uploads/2024/12/20250423-Huelva-Vertical-v3-scaled.jpg
ORGANIZER;CN="Katalina Producciones":MAILTO:contacto@katalinaproducciones.com
END:VEVENT
BEGIN:VEVENT
DTSTART;TZID=Europe/Madrid:20240829T213000
DTEND;TZID=Europe/Madrid:20240829T213000
DTSTAMP:20260421T164938
CREATED:20240814T223555Z
LAST-MODIFIED:20240819T105814Z
UID:10000037-1724967000-1724967000@lachirigotadelbizcocho.com
SUMMARY:"La última y nos vamos" en Chipiona (Cádiz)
DESCRIPTION:
URL:https://lachirigotadelbizcocho.com/actuacion/la-ultima-y-nos-vamos-en-chipiona-cadiz/
LOCATION:Picoco Discoteca\, P.º Costa de la Luz\, 11\, Chipiona\, Cádiz\, 11550\, España
CATEGORIES:La última y nos vamos
ATTACH;FMTTYPE=image/jpeg:https://lachirigotadelbizcocho.com/wp-content/uploads/2024/08/20240829-Chipiona-1.jpg
ORGANIZER;CN="Katalina Producciones":MAILTO:contacto@katalinaproducciones.com
END:VEVENT
BEGIN:VEVENT
DTSTART;TZID=Europe/Madrid:20240616T190000
DTEND;TZID=Europe/Madrid:20240616T190000
DTSTAMP:20260421T164938
CREATED:20240411T190059Z
LAST-MODIFIED:20240411T121256Z
UID:10000015-1718564400-1718564400@lachirigotadelbizcocho.com
SUMMARY:"La última y nos vamos" + "Los becarios del telediario" en Málaga
DESCRIPTION:
URL:https://lachirigotadelbizcocho.com/actuacion/la-ultima-y-nos-vamos-los-becarios-del-telediario-en-malaga/
LOCATION:Auditorio Manuel de Falla\, Pl. del Maestro Artola\, 2\, Distrito Centro\, Málaga\, Málaga\, 29013\, España
CATEGORIES:La última y nos vamos
ATTACH;FMTTYPE=image/jpeg:https://lachirigotadelbizcocho.com/wp-content/uploads/2024/04/20240616-Malaga.jpg
ORGANIZER;CN="Katalina Producciones":MAILTO:contacto@katalinaproducciones.com
END:VEVENT
BEGIN:VEVENT
DTSTART;TZID=Europe/Madrid:20240518T210000
DTEND;TZID=Europe/Madrid:20240518T210000
DTSTAMP:20260421T164938
CREATED:20240316T193749Z
LAST-MODIFIED:20240419T224732Z
UID:10000010-1716066000-1716066000@lachirigotadelbizcocho.com
SUMMARY:"La última y nos vamos" + "Los becarios del telediario" en Mérida
DESCRIPTION:
URL:https://lachirigotadelbizcocho.com/actuacion/la-ultima-y-nos-vamos-los-becarios-del-telediario-merida/
LOCATION:Palacio de Congresos de Mérida\, Av. del Río\, s/n\, Mérida\, Badajoz
CATEGORIES:La última y nos vamos
ATTACH;FMTTYPE=image/jpeg:https://lachirigotadelbizcocho.com/wp-content/uploads/2024/03/20240518-Merida-v2.jpg
ORGANIZER;CN="Katalina Producciones":MAILTO:contacto@katalinaproducciones.com
END:VEVENT
BEGIN:VEVENT
DTSTART;TZID=Europe/Madrid:20240517T210000
DTEND;TZID=Europe/Madrid:20240517T210000
DTSTAMP:20260421T164938
CREATED:20240316T193603Z
LAST-MODIFIED:20240419T224718Z
UID:10000009-1715979600-1715979600@lachirigotadelbizcocho.com
SUMMARY:"La última y nos vamos" + "Los becarios del telediario" en Badajoz
DESCRIPTION:
URL:https://lachirigotadelbizcocho.com/actuacion/la-ultima-y-nos-vamos-los-becarios-del-telediario-badajoz/
LOCATION:Palacio de Congresos de Badajoz\, Rda. del Pilar\, S/N\, Badajoz\, Badajoz\, 06002\, España
CATEGORIES:La última y nos vamos
ATTACH;FMTTYPE=image/jpeg:https://lachirigotadelbizcocho.com/wp-content/uploads/2024/03/20240517-Badajoz-v2.jpg
ORGANIZER;CN="Katalina Producciones":MAILTO:contacto@katalinaproducciones.com
END:VEVENT
BEGIN:VEVENT
DTSTART;TZID=Europe/Madrid:20240505T120000
DTEND;TZID=Europe/Madrid:20240505T120000
DTSTAMP:20260421T164938
CREATED:20240316T193024Z
LAST-MODIFIED:20240419T230113Z
UID:10000008-1714910400-1714910400@lachirigotadelbizcocho.com
SUMMARY:"La última y nos vamos" + "Los becarios del telediario" en Madrid
DESCRIPTION:
URL:https://lachirigotadelbizcocho.com/actuacion/la-ultima-y-nos-vamos-los-becarios-del-telediario-en-madrid/2024-05-05/
LOCATION:Teatro Reina Victoria\, Cra de S. Jerónimo\, 24\, Madrid\, Madrid\, 28014\, España
CATEGORIES:La última y nos vamos
ATTACH;FMTTYPE=image/jpeg:https://lachirigotadelbizcocho.com/wp-content/uploads/2024/03/20240504-Madrid-v2.jpg
ORGANIZER;CN="Katalina Producciones":MAILTO:contacto@katalinaproducciones.com
END:VEVENT
BEGIN:VEVENT
DTSTART;TZID=Europe/Madrid:20240504T120000
DTEND;TZID=Europe/Madrid:20240504T120000
DTSTAMP:20260421T164938
CREATED:20240316T193024Z
LAST-MODIFIED:20240419T230113Z
UID:10000007-1714824000-1714824000@lachirigotadelbizcocho.com
SUMMARY:"La última y nos vamos" + "Los becarios del telediario" en Madrid
DESCRIPTION:
URL:https://lachirigotadelbizcocho.com/actuacion/la-ultima-y-nos-vamos-los-becarios-del-telediario-en-madrid/2024-05-04/
LOCATION:Teatro Reina Victoria\, Cra de S. Jerónimo\, 24\, Madrid\, Madrid\, 28014\, España
CATEGORIES:La última y nos vamos
ATTACH;FMTTYPE=image/jpeg:https://lachirigotadelbizcocho.com/wp-content/uploads/2024/03/20240504-Madrid-v2.jpg
ORGANIZER;CN="Katalina Producciones":MAILTO:contacto@katalinaproducciones.com
END:VEVENT
BEGIN:VEVENT
DTSTART;TZID=Europe/Madrid:20240303T120000
DTEND;TZID=Europe/Madrid:20240303T150000
DTSTAMP:20260421T164938
CREATED:20240303T004306Z
LAST-MODIFIED:20240410T194001Z
UID:10000001-1709467200-1709478000@lachirigotadelbizcocho.com
SUMMARY:"La última y nos vamos" + "Los becarios del telediario" en Granada
DESCRIPTION:
URL:https://lachirigotadelbizcocho.com/actuacion/la-ultima-y-nos-vamos-los-becarios-del-telediario-granada/
LOCATION:Palacio de Congresos de Granada\, P.º del Violón\, Zaidín\, Granada\, Granada\, 18006\, España
CATEGORIES:La última y nos vamos
ATTACH;FMTTYPE=image/jpeg:https://lachirigotadelbizcocho.com/wp-content/uploads/2024/03/20240303-Granada.jpg
ORGANIZER;CN="Katalina Producciones":MAILTO:contacto@katalinaproducciones.com
END:VEVENT
END:VCALENDAR